BEGIN:VCALENDAR
VERSION:2.0
METHOD:PUBLISH
PRODID:-//Accessible Web Design//My Calendar//http://www.joedolson.com//v//EN';
BEGIN:VEVENT
UID:26-20
LOCATION:
SUMMARY: Candidatures à (Re)dessine ton village du 15 sept au 31 oct
DTSTAMP:20230915
ORGANIZER;CN=Email Bardane:MAILTO:email@bardane.org
DTSTART:20230915
DTEND:20231101
CATEGORIES:
URL;VALUE=URI:https://bardane.org/mc-events/candidatures-a-redessine-ton-village-du-15-sept-au-31-oct/?mc_id=26
DESCRIPTION:
X-FUNAMBOL-ALLDAY: 1
X-MICROSOFT-CDO-ALLDAYEVENT: TRUE

END:VEVENT
END:VCALENDAR