BEGIN:VCALENDAR
VERSION:2.0
METHOD:PUBLISH
PRODID:-//Accessible Web Design//My Calendar//http://www.joedolson.com//v//EN';
BEGIN:VEVENT
UID:25-19
LOCATION:En visio
SUMMARY:Reunion d'information (Re)dessine ton territoire
DTSTAMP:20231006T110000
ORGANIZER;CN=Email Bardane:MAILTO:email@bardane.org
DTSTART:20231006T110000
DTEND:20231006T120000
CATEGORIES:
URL;VALUE=URI:https://bardane.org/mc-events/reunion-dinformation-redessine-ton-territoire/?mc_id=25
DESCRIPTION:Rendez vous le Vendredi 6 octobre à 11 h pour une visio d'information sur notre AMI (Re) dessine ton territoire ! Pour en savoir   c'est par ici  &gt;&gt; https://nuage.bardane.org/index.php/f/168783
END:VEVENT
END:VCALENDAR